BEGIN:VCALENDAR
VERSION:2.0
PRODID:-//Ayuntamiento de Ampuero - ECPv5.1.6//NONSGML v1.0//EN
CALSCALE:GREGORIAN
METHOD:PUBLISH
X-WR-CALNAME:Ayuntamiento de Ampuero
X-ORIGINAL-URL:https://ampuero.es
X-WR-CALDESC:Eventos para Ayuntamiento de Ampuero
BEGIN:VTIMEZONE
TZID:UTC
BEGIN:STANDARD
TZOFFSETFROM:+0000
TZOFFSETTO:+0000
TZNAME:UTC
DTSTART:20180101T000000
END:STANDARD
END:VTIMEZONE
BEGIN:VEVENT
DTSTART;VALUE=DATE:20180701
DTEND;VALUE=DATE:20180702
DTSTAMP:20260425T105639
CREATED:20180515T161931Z
LAST-MODIFIED:20180515T161931Z
UID:1511-1530403200-1530489599@ampuero.es
SUMMARY:64 Descenso Internacional del río Asón y 1er Mini-Asón
DESCRIPTION:DOMINGO 1 DE JULIO. \n64º DESCENSO INTERNACIONAL DEL RÍO ASÓN \nA las 17:00 horas desde Ramales. \nA las 17:45 horas\, aproximadamente\, desde Udalla. \n1ER MINI-ASÓN \nA las 12:00 horas en la zona de la presa de Ampuero \n  \n 
URL:https://ampuero.es/evento/64-descenso-internacional-del-rio-ason-y-1er-mini-ason/
ATTACH;FMTTYPE=image/jpeg:https://ampuero.es/wp-content/uploads/Cartel-Descenso-modificado-A3.jpg
END:VEVENT
END:VCALENDAR