BEGIN:VCALENDAR
VERSION:2.0
PRODID:-//Ayuntamiento de Ampuero - ECPv5.1.6//NONSGML v1.0//EN
CALSCALE:GREGORIAN
METHOD:PUBLISH
X-WR-CALNAME:Ayuntamiento de Ampuero
X-ORIGINAL-URL:https://ampuero.es
X-WR-CALDESC:Eventos para Ayuntamiento de Ampuero
BEGIN:VTIMEZONE
TZID:UTC
BEGIN:STANDARD
TZOFFSETFROM:+0000
TZOFFSETTO:+0000
TZNAME:UTC
DTSTART:20190101T000000
END:STANDARD
END:VTIMEZONE
BEGIN:VEVENT
DTSTART;VALUE=DATE:20190512
DTEND;VALUE=DATE:20190513
DTSTAMP:20260425T192322
CREATED:20190502T105426Z
LAST-MODIFIED:20190502T105426Z
UID:1772-1557619200-1557705599@ampuero.es
SUMMARY:DESCENSO DE AFICIONADOS
DESCRIPTION:Para continuar con un fin de semana de piragüismo\, el domingo día 12 de mayo tendremos el descenso de aficionados. \nLa salida es desde Udalla a las once de la mañana y para realizar las INSCRIPCIONES hay que contactar con la empresa Canoasón llamando al tlfno: 678 41 41 35
URL:https://ampuero.es/evento/descenso-de-aficionados/
ATTACH;FMTTYPE=image/jpeg:https://ampuero.es/wp-content/uploads/DESCENSO-AFICIONADOS_page-0001.jpg
END:VEVENT
END:VCALENDAR