BEGIN:VCALENDAR
VERSION:2.0
PRODID:-//Ayuntamiento de Ampuero - ECPv5.1.6//NONSGML v1.0//EN
CALSCALE:GREGORIAN
METHOD:PUBLISH
X-WR-CALNAME:Ayuntamiento de Ampuero
X-ORIGINAL-URL:https://ampuero.es
X-WR-CALDESC:Eventos para Ayuntamiento de Ampuero
BEGIN:VTIMEZONE
TZID:UTC
BEGIN:STANDARD
TZOFFSETFROM:+0000
TZOFFSETTO:+0000
TZNAME:UTC
DTSTART:20170101T000000
END:STANDARD
END:VTIMEZONE
BEGIN:VEVENT
DTSTART;TZID=UTC:20170901T201500
DTEND;TZID=UTC:20170930T000000
DTSTAMP:20260425T191821
CREATED:20170901T114645Z
LAST-MODIFIED:20170901T114917Z
UID:1067-1504296900-1506729600@ampuero.es
SUMMARY:Exposición fotográfica sobre las fiestas de Ampuero
DESCRIPTION:Durante el mes de septiembre\, la Concejalía de Cultura del Ayuntamiento de Ampuero ha organizado esta exposición en la que los fotógrafos ampuerenses y residentes en nuestra villa\, nos dan su particular visión sobre nuestras fiestas y nuestros encierros. \nLa inauguración se realizará el viernes\, día 1 a las 20:15 en el salón de actos y exposiciones de la Casa de cultura de Ampuero. ¡Os invitamos a acudir a la exposición!
URL:https://ampuero.es/evento/exposicion-fotografica-las-fiestas-ampuero/
LOCATION:Salón de actos y exposiciones\, Calle de Onésimo Redondo\, 4\, Ampuero\, Cantabria\, 39840
ATTACH;FMTTYPE=image/jpeg:https://ampuero.es/wp-content/uploads/exposicion.jpg
END:VEVENT
END:VCALENDAR