BEGIN:VCALENDAR
VERSION:2.0
PRODID:-//Ayuntamiento de Ampuero - ECPv5.1.6//NONSGML v1.0//EN
CALSCALE:GREGORIAN
METHOD:PUBLISH
X-WR-CALNAME:Ayuntamiento de Ampuero
X-ORIGINAL-URL:https://ampuero.es
X-WR-CALDESC:Eventos para Ayuntamiento de Ampuero
BEGIN:VTIMEZONE
TZID:UTC
BEGIN:STANDARD
TZOFFSETFROM:+0000
TZOFFSETTO:+0000
TZNAME:UTC
DTSTART:20170101T000000
END:STANDARD
END:VTIMEZONE
BEGIN:VEVENT
DTSTART;TZID=UTC:20170907T080000
DTEND;TZID=UTC:20170910T235900
DTSTAMP:20260425T164019
CREATED:20170831T105847Z
LAST-MODIFIED:20170831T120153Z
UID:1003-1504771200-1505087940@ampuero.es
SUMMARY:Fiestas patronales de la Virgen Niña
DESCRIPTION:«Ampuero\, villa del encierro» \nNuestras fiestas serán\, otra vez\, días para disfrutar y emocionarse\, en las que nos encontramos con las amistades y disfrutamos de la familia. Es momento de bailar\, de cantar y de reír\, el momento de hacer un paréntesis en la rutina ordinaria que nos permita buscar ese hilo de ilusión que nos devuelva a la realidad con renovadas energías. \nDescárgate el folleto de las fiestas patronales Virgen Niña para no perderte un solo evento y conocer más sobre el chupinazo\, la procesión de las antorchas\, el recorrido del encierro y mucho más para disfrutar del ambiente festivo que te brinda Ampuero. \nPROGRAMA DE FIESTAS DE LA VIRGEN NIÑA
URL:https://ampuero.es/evento/fiestas-patronales-la-virgen-nina/
ATTACH;FMTTYPE=image/jpeg:https://ampuero.es/wp-content/uploads/fiestas-17.jpg
END:VEVENT
END:VCALENDAR