BEGIN:VCALENDAR
VERSION:2.0
PRODID:-//Ayuntamiento de Ampuero - ECPv5.1.6//NONSGML v1.0//EN
CALSCALE:GREGORIAN
METHOD:PUBLISH
X-WR-CALNAME:Ayuntamiento de Ampuero
X-ORIGINAL-URL:https://ampuero.es
X-WR-CALDESC:Eventos para Ayuntamiento de Ampuero
BEGIN:VTIMEZONE
TZID:UTC
BEGIN:STANDARD
TZOFFSETFROM:+0000
TZOFFSETTO:+0000
TZNAME:UTC
DTSTART:20190101T000000
END:STANDARD
END:VTIMEZONE
BEGIN:VEVENT
DTSTART;VALUE=DATE:20190511
DTEND;VALUE=DATE:20190512
DTSTAMP:20260425T180453
CREATED:20190417T105659Z
LAST-MODIFIED:20190417T105927Z
UID:1760-1557532800-1557619199@ampuero.es
SUMMARY:LXV DESCENSO INTERNACIONAL DEL RIO ASÓN Y II MINIASÓN
DESCRIPTION:LXV DESCENSO INTERNACIONAL DEL RIO ASÓN Y II MINIASÓN \nEl sábado día 11 de mayo se disputará el 65 Descenso del río Asón con su tradicional recorrido de Ramales-Ampuero y 2º Miniasón en la zona de la Presa de Ampuero. \nEl DESCENSO DE AFICIONADOS se celebrará el domingo 12 de mayo \nprograma
URL:https://ampuero.es/evento/lxv-descenso-internacional-del-rio-ason-y-ii-miniason/
ATTACH;FMTTYPE=image/jpeg:https://ampuero.es/wp-content/uploads/CARTEL_page-0001.jpg
END:VEVENT
END:VCALENDAR