BEGIN:VCALENDAR
VERSION:2.0
PRODID:-//Ayuntamiento de Ampuero - ECPv5.1.6//NONSGML v1.0//EN
CALSCALE:GREGORIAN
METHOD:PUBLISH
X-WR-CALNAME:Ayuntamiento de Ampuero
X-ORIGINAL-URL:https://ampuero.es
X-WR-CALDESC:Eventos para Ayuntamiento de Ampuero
BEGIN:VTIMEZONE
TZID:UTC
BEGIN:STANDARD
TZOFFSETFROM:+0000
TZOFFSETTO:+0000
TZNAME:UTC
DTSTART:20170101T000000
END:STANDARD
END:VTIMEZONE
BEGIN:VEVENT
DTSTART;TZID=UTC:20171104T100000
DTEND;TZID=UTC:20171104T140000
DTSTAMP:20260425T104430
CREATED:20170927T095343Z
LAST-MODIFIED:20170927T105100Z
UID:1195-1509789600-1509804000@ampuero.es
SUMMARY:Teatro a teatro en Noja
DESCRIPTION:Desde la Dirección General de Juventud se ofertan numerosos talleres de septiembre a diciembre dirigidos a jóvenes entre 12 y 30 años. \nLos interesados pueden apuntarse en la 2ª planta de la Casa de la Cultura. \nAmplia información en el siguiente enlace.
URL:https://ampuero.es/evento/teatro-teatro-noja/
LOCATION:Sala de exposiciones anexa a la oficina de turismo de Noja
ATTACH;FMTTYPE=image/jpeg:https://ampuero.es/wp-content/uploads/teatro.jpg
END:VEVENT
END:VCALENDAR