BEGIN:VCALENDAR
VERSION:2.0
PRODID:-//Ayuntamiento de Ampuero - ECPv5.1.6//NONSGML v1.0//EN
CALSCALE:GREGORIAN
METHOD:PUBLISH
X-WR-CALNAME:Ayuntamiento de Ampuero
X-ORIGINAL-URL:https://ampuero.es
X-WR-CALDESC:Eventos para Ayuntamiento de Ampuero
BEGIN:VTIMEZONE
TZID:UTC
BEGIN:STANDARD
TZOFFSETFROM:+0000
TZOFFSETTO:+0000
TZNAME:UTC
DTSTART:20180101T000000
END:STANDARD
END:VTIMEZONE
BEGIN:VEVENT
DTSTART;VALUE=DATE:20180915
DTEND;VALUE=DATE:20180916
DTSTAMP:20260425T152203
CREATED:20180810T110335Z
LAST-MODIFIED:20180810T110335Z
UID:1563-1536969600-1537055999@ampuero.es
SUMMARY:Verbena de la Rosa 2018
DESCRIPTION:Tradicional Verbena de la Rosa 2018 \nEl sábado 15 de septiembre a partir de las 22:00h se celebrará la tradicional Verbena de la Rosa en la Plaza Mayor de Ampuero a caargo de la orquesta «La Dimensión». \nEncuentra la rosa con tu mismo número. \nTe espera una noche llena de sorpresas y grandes regalos.
URL:https://ampuero.es/evento/verbena-de-la-rosa-2018/
LOCATION:Plaza Mayor\, Ampuero\, Plaza Mayor\, Ampuero\, Cantabria
ATTACH;FMTTYPE=image/jpeg:https://ampuero.es/wp-content/uploads/Verbena-de-la-rosa.jpg
END:VEVENT
END:VCALENDAR